BEGIN:VCALENDAR
VERSION:2.0
PRODID:-//Hampton Roads Rowing Club - ECPv6.15.13//NONSGML v1.0//EN
CALSCALE:GREGORIAN
METHOD:PUBLISH
X-ORIGINAL-URL:https://www.hrrc.net
X-WR-CALDESC:Events for Hampton Roads Rowing Club
REFRESH-INTERVAL;VALUE=DURATION:PT1H
X-Robots-Tag:noindex
X-PUBLISHED-TTL:PT1H
BEGIN:VTIMEZONE
TZID:America/Halifax
BEGIN:DAYLIGHT
TZOFFSETFROM:-0400
TZOFFSETTO:-0300
TZNAME:ADT
DTSTART:20140309T060000
END:DAYLIGHT
BEGIN:STANDARD
TZOFFSETFROM:-0300
TZOFFSETTO:-0400
TZNAME:AST
DTSTART:20141102T050000
END:STANDARD
BEGIN:DAYLIGHT
TZOFFSETFROM:-0400
TZOFFSETTO:-0300
TZNAME:ADT
DTSTART:20150308T060000
END:DAYLIGHT
BEGIN:STANDARD
TZOFFSETFROM:-0300
TZOFFSETTO:-0400
TZNAME:AST
DTSTART:20151101T050000
END:STANDARD
BEGIN:DAYLIGHT
TZOFFSETFROM:-0400
TZOFFSETTO:-0300
TZNAME:ADT
DTSTART:20160313T060000
END:DAYLIGHT
BEGIN:STANDARD
TZOFFSETFROM:-0300
TZOFFSETTO:-0400
TZNAME:AST
DTSTART:20161106T050000
END:STANDARD
BEGIN:DAYLIGHT
TZOFFSETFROM:-0400
TZOFFSETTO:-0300
TZNAME:ADT
DTSTART:20170312T060000
END:DAYLIGHT
BEGIN:STANDARD
TZOFFSETFROM:-0300
TZOFFSETTO:-0400
TZNAME:AST
DTSTART:20171105T050000
END:STANDARD
BEGIN:DAYLIGHT
TZOFFSETFROM:-0400
TZOFFSETTO:-0300
TZNAME:ADT
DTSTART:20180311T060000
END:DAYLIGHT
BEGIN:STANDARD
TZOFFSETFROM:-0300
TZOFFSETTO:-0400
TZNAME:AST
DTSTART:20181104T050000
END:STANDARD
BEGIN:DAYLIGHT
TZOFFSETFROM:-0400
TZOFFSETTO:-0300
TZNAME:ADT
DTSTART:20190310T060000
END:DAYLIGHT
BEGIN:STANDARD
TZOFFSETFROM:-0300
TZOFFSETTO:-0400
TZNAME:AST
DTSTART:20191103T050000
END:STANDARD
BEGIN:DAYLIGHT
TZOFFSETFROM:-0400
TZOFFSETTO:-0300
TZNAME:ADT
DTSTART:20200308T060000
END:DAYLIGHT
BEGIN:STANDARD
TZOFFSETFROM:-0300
TZOFFSETTO:-0400
TZNAME:AST
DTSTART:20201101T050000
END:STANDARD
BEGIN:DAYLIGHT
TZOFFSETFROM:-0400
TZOFFSETTO:-0300
TZNAME:ADT
DTSTART:20210314T060000
END:DAYLIGHT
BEGIN:STANDARD
TZOFFSETFROM:-0300
TZOFFSETTO:-0400
TZNAME:AST
DTSTART:20211107T050000
END:STANDARD
BEGIN:DAYLIGHT
TZOFFSETFROM:-0400
TZOFFSETTO:-0300
TZNAME:ADT
DTSTART:20220313T060000
END:DAYLIGHT
BEGIN:STANDARD
TZOFFSETFROM:-0300
TZOFFSETTO:-0400
TZNAME:AST
DTSTART:20221106T050000
END:STANDARD
BEGIN:DAYLIGHT
TZOFFSETFROM:-0400
TZOFFSETTO:-0300
TZNAME:ADT
DTSTART:20230312T060000
END:DAYLIGHT
BEGIN:STANDARD
TZOFFSETFROM:-0300
TZOFFSETTO:-0400
TZNAME:AST
DTSTART:20231105T050000
END:STANDARD
BEGIN:DAYLIGHT
TZOFFSETFROM:-0400
TZOFFSETTO:-0300
TZNAME:ADT
DTSTART:20240310T060000
END:DAYLIGHT
BEGIN:STANDARD
TZOFFSETFROM:-0300
TZOFFSETTO:-0400
TZNAME:AST
DTSTART:20241103T050000
END:STANDARD
BEGIN:DAYLIGHT
TZOFFSETFROM:-0400
TZOFFSETTO:-0300
TZNAME:ADT
DTSTART:20250309T060000
END:DAYLIGHT
BEGIN:STANDARD
TZOFFSETFROM:-0300
TZOFFSETTO:-0400
TZNAME:AST
DTSTART:20251102T050000
END:STANDARD
END:VTIMEZONE
BEGIN:VEVENT
DTSTART;VALUE=DATE:20240718
DTEND;VALUE=DATE:20240722
DTSTAMP:20260424T194843
CREATED:20170513T161843Z
LAST-MODIFIED:20240107T182320Z
UID:2023-1721260800-1721606399@www.hrrc.net
SUMMARY:Masters National Championship Regatta
DESCRIPTION:This year USRowing is combining youth and master national championships into RowFest\, held in Oklahoma City\, OK. Last year we had a group head to Indianapolis for four days of racing and fun. Please come join us this year! This regatta is an opportunity for masters rowers from across the country to come together and compete for national championships in more than 200 categories.
URL:https://www.hrrc.net/event/masters-national-championship-regatta/
LOCATION:Oklahoma City\, OK\, 800 RIVERSPORT Dr.\, Oklahoma City\, OK\, 73129\, United States
CATEGORIES:Offsite Regatta
END:VEVENT
BEGIN:VEVENT
DTSTART;VALUE=DATE:20240622
DTEND;VALUE=DATE:20240624
DTSTAMP:20260424T194843
CREATED:20240107T175714Z
LAST-MODIFIED:20240107T180635Z
UID:2812-1719014400-1719187199@www.hrrc.net
SUMMARY:Diamond State Masters Regatta
DESCRIPTION:Head up to Noxontown Pond\, Middletown\, Delaware for a weekend of racing. Start the day with bagpipes playing\, across the water from where they filmed Dead Poets Society. Diamond State Masters Regatta will serve as the USRowing Mid-Atlantic Regional Regatta. This buoyed course is fantastic for newer rowers as they offer novice events (races for only people who just started rowing in the past 12 months\, LTR 2023 – present). \nSmall boats will race Saturday\, followed by bigger boats (fours\, quads\, eights) racing on Sunday. Come for one day or two to enjoy one of our favorite races of the year! Great competition\, beautiful location\, vendors\, and a lot of fun hanging out with team mates before and after races. There’s a casual team dinner Saturday night for those interested.
URL:https://www.hrrc.net/event/diamond-state-masters-regatta/
CATEGORIES:Offsite Regatta
END:VEVENT
BEGIN:VEVENT
DTSTART;VALUE=DATE:20170610
DTEND;VALUE=DATE:20170611
DTSTAMP:20260424T194843
CREATED:20160418T164802Z
LAST-MODIFIED:20170513T160939Z
UID:1919-1497052800-1497139199@www.hrrc.net
SUMMARY:Virginia Boat Club Sprints Regatta at Robious Landing
DESCRIPTION:For those of you who are not familiar with this sprint (or master’s sprints in general)\, here are a couple things to know: \n* The official page is: http://www.rockettslandingsprints.com\n* The registration page is: https://www.regattacentral.com/regatta/?job_id=5037\n* The event is June 10th at Robious Landing Park.\n* The club covers the cost of hauling all of the equipment to the regatta. Crews will be responsible to cover their own registration fees.\n\n* There is ample viewing area (our club sets up a tent or two along the water).\n* The sprints are 1km (about a 4 minute row).  You’ve all done coached pieces longer than this\, so 1km will be no problem at all!\n* All skill levels are welcome!\n* There are usually a couple merchandise vendors with all sorts of great gear and accessories.\n* More importantly\, there is usually a gourmet popsicle vendor there. Yes\, gourmet popsicles!  You heard that right.  You won’t be disappointed.\n* In general\, it’s a fun\, relaxed day!  When not rowing\, we hang out under the tents to watch the other races and eat popsicles.
URL:https://www.hrrc.net/event/virginia-boat-club-sprints-regatta-at-robious-landing/
LOCATION:Robious Landing Park\, 3800 James River Road\, Midloathian\, VA\, United States
CATEGORIES:Offsite Regatta
END:VEVENT
BEGIN:VEVENT
DTSTART;VALUE=DATE:20170604
DTEND;VALUE=DATE:20170605
DTSTAMP:20260424T194843
CREATED:20160418T164300Z
LAST-MODIFIED:20170513T160330Z
UID:1918-1496534400-1496620799@www.hrrc.net
SUMMARY:Stonewall Regatta
DESCRIPTION:Join us for the 24nd Annual Stonewall Regatta and watch teams from across the US battle it out on “DC’s other river”\, the Anacostia. Fast paced races\, cheering crowds\, food trucks\, music\, no admission\, and sunshine… What’s not to love?! \n 
URL:https://www.hrrc.net/event/stonewall-regatta-2/
LOCATION:Anacostia Community Boathouse\, 1900 M St. SE\, DC\, United States
CATEGORIES:Offsite Regatta
END:VEVENT
BEGIN:VEVENT
DTSTART;VALUE=DATE:20160925
DTEND;VALUE=DATE:20160926
DTSTAMP:20260424T194843
CREATED:20160921T125752Z
LAST-MODIFIED:20160921T125752Z
UID:1967-1474761600-1474847999@www.hrrc.net
SUMMARY:Head of the Potomac
DESCRIPTION:
URL:https://www.hrrc.net/event/head-of-the-potomac/
LOCATION:Potomac Boat Club\, Washington\, DC
CATEGORIES:Offsite Regatta
END:VEVENT
BEGIN:VEVENT
DTSTART;VALUE=DATE:20150607
DTEND;VALUE=DATE:20150608
DTSTAMP:20260424T194843
CREATED:20150427T144338Z
LAST-MODIFIED:20150427T144749Z
UID:1560-1433635200-1433721599@www.hrrc.net
SUMMARY:Stonewall Regatta
DESCRIPTION:Registration Details\nRegistration opens: May 1\, 2015\nRegistration closes: May 29\, 2015 11:59pm\nRegistration on Regatta Central \nFees\nEights:	$85.00\nFours/Quads: $50.00\nDoubles/Pairs: $30.00\nSingles: $20.00
URL:https://www.hrrc.net/event/stonewall-regatta/
LOCATION:Anacostia Community Boathouse\, 1900 M St. SE\, DC\, United States
CATEGORIES:Offsite Regatta
END:VEVENT
END:VCALENDAR