BEGIN:VCALENDAR
VERSION:2.0
PRODID:-//Hampton Roads Rowing Club - ECPv6.15.13//NONSGML v1.0//EN
CALSCALE:GREGORIAN
METHOD:PUBLISH
X-WR-CALNAME:Hampton Roads Rowing Club
X-ORIGINAL-URL:https://www.hrrc.net
X-WR-CALDESC:Events for Hampton Roads Rowing Club
REFRESH-INTERVAL;VALUE=DURATION:PT1H
X-Robots-Tag:noindex
X-PUBLISHED-TTL:PT1H
BEGIN:VTIMEZONE
TZID:America/Halifax
BEGIN:DAYLIGHT
TZOFFSETFROM:-0400
TZOFFSETTO:-0300
TZNAME:ADT
DTSTART:20140309T060000
END:DAYLIGHT
BEGIN:STANDARD
TZOFFSETFROM:-0300
TZOFFSETTO:-0400
TZNAME:AST
DTSTART:20141102T050000
END:STANDARD
BEGIN:DAYLIGHT
TZOFFSETFROM:-0400
TZOFFSETTO:-0300
TZNAME:ADT
DTSTART:20150308T060000
END:DAYLIGHT
BEGIN:STANDARD
TZOFFSETFROM:-0300
TZOFFSETTO:-0400
TZNAME:AST
DTSTART:20151101T050000
END:STANDARD
BEGIN:DAYLIGHT
TZOFFSETFROM:-0400
TZOFFSETTO:-0300
TZNAME:ADT
DTSTART:20160313T060000
END:DAYLIGHT
BEGIN:STANDARD
TZOFFSETFROM:-0300
TZOFFSETTO:-0400
TZNAME:AST
DTSTART:20161106T050000
END:STANDARD
END:VTIMEZONE
BEGIN:VEVENT
DTSTART;TZID=America/Halifax:20150602T174500
DTEND;TZID=America/Halifax:20150602T200000
DTSTAMP:20260425T083035
CREATED:20150427T152658Z
LAST-MODIFIED:20150427T152658Z
UID:1611-1433267100-1433275200@www.hrrc.net
SUMMARY:Learn to Row Class
DESCRIPTION:
URL:https://www.hrrc.net/event/learn-to-row-class-7/
END:VEVENT
BEGIN:VEVENT
DTSTART;TZID=America/Halifax:20150531T100000
DTEND;TZID=America/Halifax:20150531T120000
DTSTAMP:20260425T083035
CREATED:20150427T152649Z
LAST-MODIFIED:20150427T152649Z
UID:1576-1433066400-1433073600@www.hrrc.net
SUMMARY:Sweep Open Row
DESCRIPTION:
URL:https://www.hrrc.net/event/sweep-open-row-10/
END:VEVENT
BEGIN:VEVENT
DTSTART;TZID=America/Halifax:20150530T100000
DTEND;TZID=America/Halifax:20150530T120000
DTSTAMP:20260425T083035
CREATED:20150427T152654Z
LAST-MODIFIED:20150427T152654Z
UID:1595-1432980000-1432987200@www.hrrc.net
SUMMARY:Sculling Open Row
DESCRIPTION:
URL:https://www.hrrc.net/event/sculling-open-row-10/
END:VEVENT
BEGIN:VEVENT
DTSTART;TZID=America/Halifax:20150527T180000
DTEND;TZID=America/Halifax:20150527T200000
DTSTAMP:20260425T083035
CREATED:20150427T152649Z
LAST-MODIFIED:20150427T152649Z
UID:1575-1432749600-1432756800@www.hrrc.net
SUMMARY:Sweep Open Row
DESCRIPTION:
URL:https://www.hrrc.net/event/sweep-open-row-9/
END:VEVENT
BEGIN:VEVENT
DTSTART;TZID=America/Halifax:20150526T180000
DTEND;TZID=America/Halifax:20150526T200000
DTSTAMP:20260425T083035
CREATED:20150427T152654Z
LAST-MODIFIED:20150427T152654Z
UID:1594-1432663200-1432670400@www.hrrc.net
SUMMARY:Sculling Open Row
DESCRIPTION:
URL:https://www.hrrc.net/event/sculling-open-row-9/
END:VEVENT
BEGIN:VEVENT
DTSTART;TZID=America/Halifax:20150524T100000
DTEND;TZID=America/Halifax:20150524T120000
DTSTAMP:20260425T083035
CREATED:20150427T152649Z
LAST-MODIFIED:20150427T152649Z
UID:1574-1432461600-1432468800@www.hrrc.net
SUMMARY:Sweep Open Row
DESCRIPTION:
URL:https://www.hrrc.net/event/sweep-open-row-8/
END:VEVENT
BEGIN:VEVENT
DTSTART;TZID=America/Halifax:20150523T100000
DTEND;TZID=America/Halifax:20150523T120000
DTSTAMP:20260425T083035
CREATED:20150427T152654Z
LAST-MODIFIED:20150427T152654Z
UID:1593-1432375200-1432382400@www.hrrc.net
SUMMARY:Sculling Open Row
DESCRIPTION:
URL:https://www.hrrc.net/event/sculling-open-row-8/
END:VEVENT
BEGIN:VEVENT
DTSTART;TZID=America/Halifax:20150523T080000
DTEND;TZID=America/Halifax:20150523T100000
DTSTAMP:20260425T083035
CREATED:20150427T152657Z
LAST-MODIFIED:20150427T152657Z
UID:1610-1432368000-1432375200@www.hrrc.net
SUMMARY:Learn to Row Class
DESCRIPTION:
URL:https://www.hrrc.net/event/learn-to-row-class-6/
END:VEVENT
BEGIN:VEVENT
DTSTART;TZID=America/Halifax:20150520T180000
DTEND;TZID=America/Halifax:20150520T200000
DTSTAMP:20260425T083035
CREATED:20150427T152649Z
LAST-MODIFIED:20150427T152649Z
UID:1573-1432144800-1432152000@www.hrrc.net
SUMMARY:Sweep Open Row
DESCRIPTION:
URL:https://www.hrrc.net/event/sweep-open-row-7/
END:VEVENT
BEGIN:VEVENT
DTSTART;TZID=America/Halifax:20150520T174500
DTEND;TZID=America/Halifax:20150520T200000
DTSTAMP:20260425T083035
CREATED:20150427T152657Z
LAST-MODIFIED:20150427T152657Z
UID:1609-1432143900-1432152000@www.hrrc.net
SUMMARY:Learn to Row Class
DESCRIPTION:
URL:https://www.hrrc.net/event/learn-to-row-class-5/
END:VEVENT
BEGIN:VEVENT
DTSTART;TZID=America/Halifax:20150519T180000
DTEND;TZID=America/Halifax:20150519T200000
DTSTAMP:20260425T083035
CREATED:20150427T152654Z
LAST-MODIFIED:20150427T152654Z
UID:1592-1432058400-1432065600@www.hrrc.net
SUMMARY:Sculling Open Row
DESCRIPTION:
URL:https://www.hrrc.net/event/sculling-open-row-7/
END:VEVENT
BEGIN:VEVENT
DTSTART;TZID=America/Halifax:20150518T174500
DTEND;TZID=America/Halifax:20150518T200000
DTSTAMP:20260425T083035
CREATED:20150427T152657Z
LAST-MODIFIED:20150427T152657Z
UID:1608-1431971100-1431979200@www.hrrc.net
SUMMARY:Learn to Row Class
DESCRIPTION:
URL:https://www.hrrc.net/event/learn-to-row-class-4/
END:VEVENT
BEGIN:VEVENT
DTSTART;TZID=America/Halifax:20150517T100000
DTEND;TZID=America/Halifax:20150517T120000
DTSTAMP:20260425T083035
CREATED:20150427T152648Z
LAST-MODIFIED:20150427T152648Z
UID:1572-1431856800-1431864000@www.hrrc.net
SUMMARY:Sweep Open Row
DESCRIPTION:
URL:https://www.hrrc.net/event/sweep-open-row-6/
END:VEVENT
BEGIN:VEVENT
DTSTART;TZID=America/Halifax:20150516T100000
DTEND;TZID=America/Halifax:20150516T120000
DTSTAMP:20260425T083035
CREATED:20150427T152653Z
LAST-MODIFIED:20150427T152653Z
UID:1591-1431770400-1431777600@www.hrrc.net
SUMMARY:Sculling Open Row
DESCRIPTION:
URL:https://www.hrrc.net/event/sculling-open-row-6/
END:VEVENT
BEGIN:VEVENT
DTSTART;TZID=America/Halifax:20150516T080000
DTEND;TZID=America/Halifax:20150516T100000
DTSTAMP:20260425T083035
CREATED:20150427T152657Z
LAST-MODIFIED:20150427T152657Z
UID:1607-1431763200-1431770400@www.hrrc.net
SUMMARY:Learn to Row Class
DESCRIPTION:
URL:https://www.hrrc.net/event/learn-to-row-class-3/
END:VEVENT
BEGIN:VEVENT
DTSTART;TZID=America/Halifax:20150514T180000
DTEND;TZID=America/Halifax:20150514T200000
DTSTAMP:20260425T083035
CREATED:20150427T152648Z
LAST-MODIFIED:20150427T152648Z
UID:1571-1431626400-1431633600@www.hrrc.net
SUMMARY:Sweep Open Row
DESCRIPTION:
URL:https://www.hrrc.net/event/sweep-open-row-5/
END:VEVENT
BEGIN:VEVENT
DTSTART;TZID=America/Halifax:20150513T174500
DTEND;TZID=America/Halifax:20150513T200000
DTSTAMP:20260425T083035
CREATED:20150427T152657Z
LAST-MODIFIED:20150427T152657Z
UID:1606-1431539100-1431547200@www.hrrc.net
SUMMARY:Learn to Row Class
DESCRIPTION:
URL:https://www.hrrc.net/event/learn-to-row-class-2/
END:VEVENT
BEGIN:VEVENT
DTSTART;TZID=America/Halifax:20150512T180000
DTEND;TZID=America/Halifax:20150512T200000
DTSTAMP:20260425T083035
CREATED:20150427T152653Z
LAST-MODIFIED:20150427T152653Z
UID:1590-1431453600-1431460800@www.hrrc.net
SUMMARY:Sculling Open Row
DESCRIPTION:
URL:https://www.hrrc.net/event/sculling-open-row-5/
END:VEVENT
BEGIN:VEVENT
DTSTART;TZID=America/Halifax:20150511T174500
DTEND;TZID=America/Halifax:20150511T200000
DTSTAMP:20260425T083035
CREATED:20150427T152657Z
LAST-MODIFIED:20150427T152657Z
UID:1605-1431366300-1431374400@www.hrrc.net
SUMMARY:Learn to Row Class
DESCRIPTION:
URL:https://www.hrrc.net/event/learn-to-row-class/
END:VEVENT
BEGIN:VEVENT
DTSTART;TZID=America/Halifax:20150510T100000
DTEND;TZID=America/Halifax:20150510T120000
DTSTAMP:20260425T083035
CREATED:20150427T152648Z
LAST-MODIFIED:20150427T152648Z
UID:1570-1431252000-1431259200@www.hrrc.net
SUMMARY:Sweep Open Row
DESCRIPTION:
URL:https://www.hrrc.net/event/sweep-open-row-4/
END:VEVENT
BEGIN:VEVENT
DTSTART;TZID=America/Halifax:20150509T100000
DTEND;TZID=America/Halifax:20150509T120000
DTSTAMP:20260425T083035
CREATED:20150427T152653Z
LAST-MODIFIED:20150427T152653Z
UID:1589-1431165600-1431172800@www.hrrc.net
SUMMARY:Sculling Open Row
DESCRIPTION:
URL:https://www.hrrc.net/event/sculling-open-row-4/
END:VEVENT
BEGIN:VEVENT
DTSTART;TZID=America/Halifax:20150507T180000
DTEND;TZID=America/Halifax:20150507T200000
DTSTAMP:20260425T083035
CREATED:20150427T152648Z
LAST-MODIFIED:20150427T152648Z
UID:1569-1431021600-1431028800@www.hrrc.net
SUMMARY:Sweep Open Row
DESCRIPTION:
URL:https://www.hrrc.net/event/sweep-open-row-3/
END:VEVENT
BEGIN:VEVENT
DTSTART;TZID=America/Halifax:20150505T180000
DTEND;TZID=America/Halifax:20150505T200000
DTSTAMP:20260425T083035
CREATED:20150427T152653Z
LAST-MODIFIED:20150427T152653Z
UID:1588-1430848800-1430856000@www.hrrc.net
SUMMARY:Sculling Open Row
DESCRIPTION:
URL:https://www.hrrc.net/event/sculling-open-row-3/
END:VEVENT
BEGIN:VEVENT
DTSTART;TZID=America/Halifax:20150503T100000
DTEND;TZID=America/Halifax:20150503T120000
DTSTAMP:20260425T083035
CREATED:20150427T152647Z
LAST-MODIFIED:20150427T152647Z
UID:1568-1430647200-1430654400@www.hrrc.net
SUMMARY:Sweep Open Row
DESCRIPTION:
URL:https://www.hrrc.net/event/sweep-open-row-2/
END:VEVENT
BEGIN:VEVENT
DTSTART;TZID=America/Halifax:20150502T100000
DTEND;TZID=America/Halifax:20150502T140000
DTSTAMP:20260425T083035
CREATED:20150427T145316Z
LAST-MODIFIED:20150427T145336Z
UID:1563-1430560800-1430575200@www.hrrc.net
SUMMARY:Boat Maintenance and BBQ
DESCRIPTION:First ever HHRC Boat Maintenance and BBQ Event this Saturday\, May 2nd at 10:00 am! Please join us for a fun afternoon of club bonding\, boat maintenance\, and grilling out by the water. The club will be providing the burgers\, buns\, and water. The rest will be potluck style. If you are coming please be sure to sign up with what you are bringing here. \nWe are going to try and get as much of the necessary boat maintenance completed on May 2nd as possible. But if you are unable to attend this club sponsored event please find another time to pitch in prior to May 23rd. Any boat that is still behind in it’s maintenance will be downed and unusable until it’s maintenance is complete. Be sure to sign up for a time to help. We WILL be tracking this list to make sure that everyone is participating. \nRemember boat maintenance is a team effort. If you row in a boat\, it is YOUR responsibility to help maintain them. Please don’t leave it up to your fellow club-mates to do your share of the work. If you have any questions or concerns please feel free to reach out to Anjani Hutton\, our esteemed boathouse captain\, or any of the other board members.
URL:https://www.hrrc.net/event/boat-maintenance-bbq/
LOCATION:HRRC Boathouse\, 1650 Willow Wood Dr\, Norfolk\, VA\, 23509\, United States
CATEGORIES:Boat Maintenance
END:VEVENT
BEGIN:VEVENT
DTSTART;TZID=America/Halifax:20150502T100000
DTEND;TZID=America/Halifax:20150502T120000
DTSTAMP:20260425T083035
CREATED:20150427T152653Z
LAST-MODIFIED:20150427T152653Z
UID:1587-1430560800-1430568000@www.hrrc.net
SUMMARY:Sculling Open Row
DESCRIPTION:
URL:https://www.hrrc.net/event/sculling-open-row-2/
END:VEVENT
BEGIN:VEVENT
DTSTART;TZID=America/Halifax:20150430T180000
DTEND;TZID=America/Halifax:20150430T200000
DTSTAMP:20260425T083035
CREATED:20150427T152647Z
LAST-MODIFIED:20150427T152647Z
UID:1567-1430416800-1430424000@www.hrrc.net
SUMMARY:Sweep Open Row
DESCRIPTION:
URL:https://www.hrrc.net/event/sweep-open-row/
END:VEVENT
BEGIN:VEVENT
DTSTART;TZID=America/Halifax:20150428T180000
DTEND;TZID=America/Halifax:20150428T200000
DTSTAMP:20260425T083035
CREATED:20150427T152652Z
LAST-MODIFIED:20150427T152652Z
UID:1586-1430244000-1430251200@www.hrrc.net
SUMMARY:Sculling Open Row
DESCRIPTION:
URL:https://www.hrrc.net/event/sculling-open-row/
END:VEVENT
END:VCALENDAR