BEGIN:VCALENDAR
VERSION:2.0
PRODID:-//Hampton Roads Rowing Club - ECPv6.15.13//NONSGML v1.0//EN
CALSCALE:GREGORIAN
METHOD:PUBLISH
X-ORIGINAL-URL:https://www.hrrc.net
X-WR-CALDESC:Events for Hampton Roads Rowing Club
REFRESH-INTERVAL;VALUE=DURATION:PT1H
X-Robots-Tag:noindex
X-PUBLISHED-TTL:PT1H
BEGIN:VTIMEZONE
TZID:America/Halifax
BEGIN:DAYLIGHT
TZOFFSETFROM:-0400
TZOFFSETTO:-0300
TZNAME:ADT
DTSTART:20140309T060000
END:DAYLIGHT
BEGIN:STANDARD
TZOFFSETFROM:-0300
TZOFFSETTO:-0400
TZNAME:AST
DTSTART:20141102T050000
END:STANDARD
BEGIN:DAYLIGHT
TZOFFSETFROM:-0400
TZOFFSETTO:-0300
TZNAME:ADT
DTSTART:20150308T060000
END:DAYLIGHT
BEGIN:STANDARD
TZOFFSETFROM:-0300
TZOFFSETTO:-0400
TZNAME:AST
DTSTART:20151101T050000
END:STANDARD
BEGIN:DAYLIGHT
TZOFFSETFROM:-0400
TZOFFSETTO:-0300
TZNAME:ADT
DTSTART:20160313T060000
END:DAYLIGHT
BEGIN:STANDARD
TZOFFSETFROM:-0300
TZOFFSETTO:-0400
TZNAME:AST
DTSTART:20161106T050000
END:STANDARD
BEGIN:DAYLIGHT
TZOFFSETFROM:-0400
TZOFFSETTO:-0300
TZNAME:ADT
DTSTART:20170312T060000
END:DAYLIGHT
BEGIN:STANDARD
TZOFFSETFROM:-0300
TZOFFSETTO:-0400
TZNAME:AST
DTSTART:20171105T050000
END:STANDARD
BEGIN:DAYLIGHT
TZOFFSETFROM:-0400
TZOFFSETTO:-0300
TZNAME:ADT
DTSTART:20180311T060000
END:DAYLIGHT
BEGIN:STANDARD
TZOFFSETFROM:-0300
TZOFFSETTO:-0400
TZNAME:AST
DTSTART:20181104T050000
END:STANDARD
END:VTIMEZONE
BEGIN:VEVENT
DTSTART;VALUE=DATE:20170604
DTEND;VALUE=DATE:20170605
DTSTAMP:20260424T194040
CREATED:20160418T164300Z
LAST-MODIFIED:20170513T160330Z
UID:1918-1496534400-1496620799@www.hrrc.net
SUMMARY:Stonewall Regatta
DESCRIPTION:Join us for the 24nd Annual Stonewall Regatta and watch teams from across the US battle it out on “DC’s other river”\, the Anacostia. Fast paced races\, cheering crowds\, food trucks\, music\, no admission\, and sunshine… What’s not to love?! \n 
URL:https://www.hrrc.net/event/stonewall-regatta-2/
LOCATION:Anacostia Community Boathouse\, 1900 M St. SE\, DC\, United States
CATEGORIES:Offsite Regatta
END:VEVENT
BEGIN:VEVENT
DTSTART;TZID=America/Halifax:20170603T090000
DTEND;TZID=America/Halifax:20170603T120000
DTSTAMP:20260424T194040
CREATED:20160517T222539Z
LAST-MODIFIED:20170513T155612Z
UID:1926-1496480400-1496491200@www.hrrc.net
SUMMARY:National Learn to Row Day
DESCRIPTION:The 16th-annual National Learn to Row Day sponsored by USRowing and Concept2 will take place on Saturday\, June 3\, 2017. Competitive and recreational rowers range in age from 12 to over 90\, so it is never too early or too late to take up the sport. \nCome join us for a tour of the Hampton Roads Rowing Club boathouse\, learn the basics of rowing on an erg\, and then hit the water with experienced rowers from local clubs for a short row. We’ll be at the boathouse from 9:00am – 12:00pm\, but it will be about an hour for the tour\, erg session\, and then time on the water. You’re welcome to come and go as you wish. \nNational Learn to Row Day is a great way to see if you’d like to take the time to join one our very popular Learn to Row sessions held throughout the summer. These session are comprised of 6 classes throughout a 2 week period. We’ll have Learn to Row representatives available to talk with you if you’d like to hear more after your initial outing on the 3th! Learn more about our Learn to Row sessions. \n\nFor a PDF version of this poster\, click here. \nSpread the Word\nSend us your event photos and videos using #NLTRD hashtag on Facebook\, Twitter and Instagram.
URL:https://www.hrrc.net/event/national-learn-to-row-day/
LOCATION:HRRC Boathouse\, 1650 Willow Wood Dr\, Norfolk\, VA\, 23509\, United States
CATEGORIES:Community Outreach
END:VEVENT
BEGIN:VEVENT
DTSTART;VALUE=DATE:20161030
DTEND;VALUE=DATE:20161031
DTSTAMP:20260424T194040
CREATED:20160921T123413Z
LAST-MODIFIED:20160921T123454Z
UID:1965-1477785600-1477871999@www.hrrc.net
SUMMARY:Head of the Lafayette
DESCRIPTION:Join us Sunday\, October 30\, 2016 for the Head of the Lafayette! Registration is now open.  \nThe HOTL is a 5\,000 meter head race upon the tidal waters of the Lafayette River. It is requested that hot seating be minimized within a category since the distance from the finish to the dock then to the starting line is approximately 2\,500 meters. There is also a Halloween Costume contest for the Best Dressed Boat off the launch dock. \nLearn more
URL:https://www.hrrc.net/event/head-of-the-lafayette-2016/
LOCATION:HRRC Boathouse\, 1650 Willow Wood Dr\, Norfolk\, VA\, 23509\, United States
CATEGORIES:HRRC Regatta
END:VEVENT
BEGIN:VEVENT
DTSTART;VALUE=DATE:20160925
DTEND;VALUE=DATE:20160926
DTSTAMP:20260424T194040
CREATED:20160921T125752Z
LAST-MODIFIED:20160921T125752Z
UID:1967-1474761600-1474847999@www.hrrc.net
SUMMARY:Head of the Potomac
DESCRIPTION:
URL:https://www.hrrc.net/event/head-of-the-potomac/
LOCATION:Potomac Boat Club\, Washington\, DC
CATEGORIES:Offsite Regatta
END:VEVENT
BEGIN:VEVENT
DTSTART;TZID=America/Halifax:20160823T174500
DTEND;TZID=America/Halifax:20160823T200000
DTSTAMP:20260424T194040
CREATED:20160418T161914Z
LAST-MODIFIED:20160418T161936Z
UID:1914-1471974300-1471982400@www.hrrc.net
SUMMARY:Learn to Row Session 7
DESCRIPTION:A class consists of six\, 2 hour lessons over a 2 week period. The first 2 lessons will familiarize you with the different phases of the rowing stroke. Once comfortable\, you will quickly move to rowing in a boat on the water. You’ll be taught rowing terminology and boat handling. There will be 1 coach in the boat and one in a safety launch with you at all times\, so you will always have someone nearby to work with you. \nClasses will be held on Tuesdays and Thursday from 5:45pm – 8pm. Two Saturday morning sessions will run from 8am – 10am.  \nLearn more
URL:https://www.hrrc.net/event/learn-to-row-session-7/
LOCATION:HRRC Boathouse\, 1650 Willow Wood Dr\, Norfolk\, VA\, 23509\, United States
CATEGORIES:Learn to Row Session
END:VEVENT
BEGIN:VEVENT
DTSTART;TZID=America/Halifax:20160808T174500
DTEND;TZID=America/Halifax:20160808T200000
DTSTAMP:20260424T194040
CREATED:20160418T162348Z
LAST-MODIFIED:20160418T162348Z
UID:1917-1470678300-1470686400@www.hrrc.net
SUMMARY:Learn to Row Session 6
DESCRIPTION:A class consists of six\, 2 hour lessons over a 2 week period. The first 2 lessons will familiarize you with the different phases of the rowing stroke. Once comfortable\, you will quickly move to rowing in a boat on the water. You’ll be taught rowing terminology and boat handling. There will be 1 coach in the boat and one in a safety launch with you at all times\, so you will always have someone nearby to work with you. \nClasses will be held on Mondays and Wednesdays from 5:45pm – 8pm. Two Saturday morning sessions will run from 8am – 10am.  \nLearn more
URL:https://www.hrrc.net/event/learn-to-row-session-6/
LOCATION:HRRC Boathouse\, 1650 Willow Wood Dr\, Norfolk\, VA\, 23509\, United States
CATEGORIES:Learn to Row Session
END:VEVENT
BEGIN:VEVENT
DTSTART;TZID=America/Halifax:20160726T174500
DTEND;TZID=America/Halifax:20160726T200000
DTSTAMP:20260424T194040
CREATED:20160418T161801Z
LAST-MODIFIED:20160418T162507Z
UID:1913-1469555100-1469563200@www.hrrc.net
SUMMARY:Learn to Row Session 5
DESCRIPTION:A class consists of six\, 2 hour lessons over a 2 week period. The first 2 lessons will familiarize you with the different phases of the rowing stroke. Once comfortable\, you will quickly move to rowing in a boat on the water. You’ll be taught rowing terminology and boat handling. There will be 1 coach in the boat and one in a safety launch with you at all times\, so you will always have someone nearby to work with you. \nClasses will be held on Tuesdays and Thursday from 5:45pm – 8pm. Two Saturday morning sessions will run from 8am – 10am.  \nLearn more
URL:https://www.hrrc.net/event/learn-to-row-session-5/
LOCATION:HRRC Boathouse\, 1650 Willow Wood Dr\, Norfolk\, VA\, 23509\, United States
CATEGORIES:Learn to Row Session
END:VEVENT
BEGIN:VEVENT
DTSTART;TZID=America/Halifax:20160714T180000
DTEND;TZID=America/Halifax:20160714T200000
DTSTAMP:20260424T194040
CREATED:20160624T123528Z
LAST-MODIFIED:20160624T123528Z
UID:1955-1468519200-1468526400@www.hrrc.net
SUMMARY:Open Row (Sweep)
DESCRIPTION:Sign up: https://drive.google.com/open?id=1jL9ThwiNnY9wVyZZiSLEGFDy4FQNnGyKwejW9pkQJBY
URL:https://www.hrrc.net/event/open-row-sweep-6/
LOCATION:HRRC Boathouse\, 1650 Willow Wood Dr\, Norfolk\, VA\, 23509\, United States
CATEGORIES:Open Row
END:VEVENT
BEGIN:VEVENT
DTSTART;TZID=America/Halifax:20160712T180000
DTEND;TZID=America/Halifax:20160712T200000
DTSTAMP:20260424T194040
CREATED:20160624T123001Z
LAST-MODIFIED:20160624T123001Z
UID:1949-1468346400-1468353600@www.hrrc.net
SUMMARY:Open Row (Scull)
DESCRIPTION:Sign up: https://drive.google.com/open?id=1Bjvh_9mIFPXZoK7C8jHW8kk0EwyJQ28QKeHAyNQSTMs
URL:https://www.hrrc.net/event/open-row-scull-5/
LOCATION:HRRC Boathouse\, 1650 Willow Wood Dr\, Norfolk\, VA\, 23509\, United States
CATEGORIES:Open Row
END:VEVENT
BEGIN:VEVENT
DTSTART;TZID=America/Halifax:20160710T100000
DTEND;TZID=America/Halifax:20160710T120000
DTSTAMP:20260424T194040
CREATED:20160624T122519Z
LAST-MODIFIED:20160624T122519Z
UID:1946-1468144800-1468152000@www.hrrc.net
SUMMARY:Open Row (Scull)
DESCRIPTION:Sign up: https://drive.google.com/open?id=1Bjvh_9mIFPXZoK7C8jHW8kk0EwyJQ28QKeHAyNQSTMs
URL:https://www.hrrc.net/event/open-row-scull-2/
LOCATION:HRRC Boathouse\, 1650 Willow Wood Dr\, Norfolk\, VA\, 23509\, United States
CATEGORIES:Open Row
END:VEVENT
BEGIN:VEVENT
DTSTART;TZID=America/Halifax:20160709T100000
DTEND;TZID=America/Halifax:20160709T120000
DTSTAMP:20260424T194040
CREATED:20160624T123349Z
LAST-MODIFIED:20160624T123349Z
UID:1953-1468058400-1468065600@www.hrrc.net
SUMMARY:Open Row (Sweep)
DESCRIPTION:Sign up: https://drive.google.com/open?id=1jL9ThwiNnY9wVyZZiSLEGFDy4FQNnGyKwejW9pkQJBY
URL:https://www.hrrc.net/event/open-row-sweep-4/
LOCATION:HRRC Boathouse\, 1650 Willow Wood Dr\, Norfolk\, VA\, 23509\, United States
CATEGORIES:Open Row
END:VEVENT
BEGIN:VEVENT
DTSTART;TZID=America/Halifax:20160707T180000
DTEND;TZID=America/Halifax:20160707T200000
DTSTAMP:20260424T194040
CREATED:20160624T123441Z
LAST-MODIFIED:20160624T123441Z
UID:1954-1467914400-1467921600@www.hrrc.net
SUMMARY:Open Row (Sweep)
DESCRIPTION:Sign up: https://drive.google.com/open?id=1jL9ThwiNnY9wVyZZiSLEGFDy4FQNnGyKwejW9pkQJBY
URL:https://www.hrrc.net/event/open-row-sweep-5/
LOCATION:HRRC Boathouse\, 1650 Willow Wood Dr\, Norfolk\, VA\, 23509\, United States
CATEGORIES:Open Row
END:VEVENT
BEGIN:VEVENT
DTSTART;TZID=America/Halifax:20160705T180000
DTEND;TZID=America/Halifax:20160705T200000
DTSTAMP:20260424T194040
CREATED:20160624T122911Z
LAST-MODIFIED:20160624T122911Z
UID:1948-1467741600-1467748800@www.hrrc.net
SUMMARY:Open Row (Scull)
DESCRIPTION:Sign up: https://drive.google.com/open?id=1Bjvh_9mIFPXZoK7C8jHW8kk0EwyJQ28QKeHAyNQSTMs
URL:https://www.hrrc.net/event/open-row-scull-4/
LOCATION:HRRC Boathouse\, 1650 Willow Wood Dr\, Norfolk\, VA\, 23509\, United States
CATEGORIES:Open Row
END:VEVENT
BEGIN:VEVENT
DTSTART;TZID=America/Halifax:20160703T100000
DTEND;TZID=America/Halifax:20160703T120000
DTSTAMP:20260424T194040
CREATED:20160624T122408Z
LAST-MODIFIED:20160624T122630Z
UID:1945-1467540000-1467547200@www.hrrc.net
SUMMARY:Open Row (Scull)
DESCRIPTION:Sign up: https://drive.google.com/open?id=1Bjvh_9mIFPXZoK7C8jHW8kk0EwyJQ28QKeHAyNQSTMs
URL:https://www.hrrc.net/event/open-row-scull/
LOCATION:HRRC Boathouse\, 1650 Willow Wood Dr\, Norfolk\, VA\, 23509\, United States
CATEGORIES:Open Row
END:VEVENT
BEGIN:VEVENT
DTSTART;TZID=America/Halifax:20160702T100000
DTEND;TZID=America/Halifax:20160702T120000
DTSTAMP:20260424T194040
CREATED:20160624T123254Z
LAST-MODIFIED:20160624T123254Z
UID:1952-1467453600-1467460800@www.hrrc.net
SUMMARY:Open Row (Sweep)
DESCRIPTION:Sign up: https://drive.google.com/open?id=1jL9ThwiNnY9wVyZZiSLEGFDy4FQNnGyKwejW9pkQJBY
URL:https://www.hrrc.net/event/open-row-sweep-3/
LOCATION:HRRC Boathouse\, 1650 Willow Wood Dr\, Norfolk\, VA\, 23509\, United States
CATEGORIES:Open Row
END:VEVENT
BEGIN:VEVENT
DTSTART;TZID=America/Halifax:20160630T180000
DTEND;TZID=America/Halifax:20160630T200000
DTSTAMP:20260424T194040
CREATED:20160624T123150Z
LAST-MODIFIED:20160624T123150Z
UID:1951-1467309600-1467316800@www.hrrc.net
SUMMARY:Open Row (Sweep)
DESCRIPTION:Sign up: https://drive.google.com/open?id=1jL9ThwiNnY9wVyZZiSLEGFDy4FQNnGyKwejW9pkQJBY
URL:https://www.hrrc.net/event/open-row-sweep-2/
LOCATION:HRRC Boathouse\, 1650 Willow Wood Dr\, Norfolk\, VA\, 23509\, United States
CATEGORIES:Open Row
END:VEVENT
BEGIN:VEVENT
DTSTART;TZID=America/Halifax:20160628T174500
DTEND;TZID=America/Halifax:20160628T200000
DTSTAMP:20260424T194040
CREATED:20160624T122825Z
LAST-MODIFIED:20160624T122825Z
UID:1947-1467135900-1467144000@www.hrrc.net
SUMMARY:Open Row (Scull)
DESCRIPTION:Sign up: https://drive.google.com/open?id=1Bjvh_9mIFPXZoK7C8jHW8kk0EwyJQ28QKeHAyNQSTMs
URL:https://www.hrrc.net/event/open-row-scull-3/
LOCATION:HRRC Boathouse\, 1650 Willow Wood Dr\, Norfolk\, VA\, 23509\, United States
CATEGORIES:Open Row
END:VEVENT
BEGIN:VEVENT
DTSTART;TZID=America/Halifax:20160626T100000
DTEND;TZID=America/Halifax:20160626T120000
DTSTAMP:20260424T194040
CREATED:20160624T122225Z
LAST-MODIFIED:20160624T122718Z
UID:1944-1466935200-1466942400@www.hrrc.net
SUMMARY:Open Row (Scull)
DESCRIPTION:Sign up: https://drive.google.com/open?id=1Bjvh_9mIFPXZoK7C8jHW8kk0EwyJQ28QKeHAyNQSTMs
URL:https://www.hrrc.net/event/open-row-sculling/
LOCATION:HRRC Boathouse\, 1650 Willow Wood Dr\, Norfolk\, VA\, 23509\, United States
CATEGORIES:Open Row
END:VEVENT
BEGIN:VEVENT
DTSTART;TZID=America/Halifax:20160625T100000
DTEND;TZID=America/Halifax:20160625T120000
DTSTAMP:20260424T194040
CREATED:20160624T123105Z
LAST-MODIFIED:20160624T123105Z
UID:1950-1466848800-1466856000@www.hrrc.net
SUMMARY:Open Row (Sweep)
DESCRIPTION:Sign up: https://drive.google.com/open?id=1jL9ThwiNnY9wVyZZiSLEGFDy4FQNnGyKwejW9pkQJBY
URL:https://www.hrrc.net/event/open-row-sweep/
LOCATION:HRRC Boathouse\, 1650 Willow Wood Dr\, Norfolk\, VA\, 23509\, United States
CATEGORIES:Open Row
END:VEVENT
BEGIN:VEVENT
DTSTART;TZID=America/Halifax:20160517T174500
DTEND;TZID=America/Halifax:20160517T200000
DTSTAMP:20260424T194040
CREATED:20160418T161313Z
LAST-MODIFIED:20160418T161313Z
UID:1911-1463507100-1463515200@www.hrrc.net
SUMMARY:Learn to Row Session 1
DESCRIPTION:A class consists of six\, 2 hour lessons over a 2 week period. The first 2 lessons will familiarize you with the different phases of the rowing stroke. Once comfortable\, you will quickly move to rowing in a boat on the water. You’ll be taught rowing terminology and boat handling. There will be 1 coach in the boat and one in a safety launch with you at all times\, so you will always have someone nearby to work with you. \nClasses will be held on Tuesdays and Thursday from 5:45pm – 8pm. Two Saturday morning sessions will run from 8am – 10am.  \nLearn more
URL:https://www.hrrc.net/event/learn-to-row-session-1/
LOCATION:HRRC Boathouse\, 1650 Willow Wood Dr\, Norfolk\, VA\, 23509\, United States
CATEGORIES:Learn to Row Session
END:VEVENT
BEGIN:VEVENT
DTSTART;TZID=America/Halifax:20160510T180000
DTEND;TZID=America/Halifax:20160510T190000
DTSTAMP:20260424T194040
CREATED:20160106T032947Z
LAST-MODIFIED:20160418T160312Z
UID:1845-1462903200-1462906800@www.hrrc.net
SUMMARY:HRRC Board Meeting
DESCRIPTION:
URL:https://www.hrrc.net/event/hrrc-board-meeting-2/
LOCATION:VA
CATEGORIES:HRRC Board Meeting
END:VEVENT
BEGIN:VEVENT
DTSTART;TZID=America/Halifax:20160503T190000
DTEND;TZID=America/Halifax:20160503T210000
DTSTAMP:20260424T194040
CREATED:20160214T225939Z
LAST-MODIFIED:20160418T160354Z
UID:1898-1462302000-1462309200@www.hrrc.net
SUMMARY:First Tuesdays at the Naro
DESCRIPTION:Join us for a new HRRC tradition: hitting the Naro on the first Tuesday of the month!
URL:https://www.hrrc.net/event/first-tuesdays-at-the-naro/
LOCATION:Naro Cinema\, 1507 Colley Ave\, Norfolk\, VA\, 23517\, United States
CATEGORIES:Social Event
END:VEVENT
BEGIN:VEVENT
DTSTART;TZID=America/Halifax:20160306T093000
DTEND;TZID=America/Halifax:20160306T110000
DTSTAMP:20260424T194040
CREATED:20160118T035557Z
LAST-MODIFIED:20160227T152814Z
UID:1850-1457256600-1457262000@www.hrrc.net
SUMMARY:8x Open Row Session 2
DESCRIPTION:This row is open to everyone\, regardless of experience.  If you have never sculled before\, this is a good opportunity to learn!  \n\nFirst come\, first served!\n\nPut your name down on the days you want to row.  Start by filling in the spots 1-8.  If those are filled\, you can still put yourself down as a substitute in case one of the other 8 drops out.  Do not be concerned which spot you put your name in\, as we will figure out the actual line-up on the day of the row.\nIf you need to remove your name\, please do so before 5pm of the day before the row.  When you remove your name\, make sure to move one of the substitutes up.  If you *must* remove your name after 5pm the day before\, please contact the substitute you intend to move so that there are no surprises.\nIf we do not have a full crew by 5pm the day before\, I will cancel the row.  As this is an open invitation\, there should be no reason for me to scrounge up last-minute subs.\nIf we end up getting a large number of sign-ups\, we will see about getting a 4x going out at the same time.  So\, don’t let a full list discourage you from signing up.  If I can help get you on the water\, I will work to make that happen.\nReminder: the 8x is a coxed boat.  This means that we each pay the cox $2.50 per row. \n\nSign Up
URL:https://www.hrrc.net/event/8x-open-row-session-2-2/
LOCATION:HRRC Boathouse\, 1650 Willow Wood Dr\, Norfolk\, VA\, 23509\, United States
CATEGORIES:Open Row
END:VEVENT
BEGIN:VEVENT
DTSTART;TZID=America/Halifax:20160306T080000
DTEND;TZID=America/Halifax:20160306T093000
DTSTAMP:20260424T194040
CREATED:20160106T035443Z
LAST-MODIFIED:20160227T152739Z
UID:1849-1457251200-1457256600@www.hrrc.net
SUMMARY:8x Open Row Session 1
DESCRIPTION:This row is open to everyone\, regardless of experience.  If you have never sculled before\, this is a good opportunity to learn!  \n\nFirst come\, first served!\n\nPut your name down on the days you want to row.  Start by filling in the spots 1-8.  If those are filled\, you can still put yourself down as a substitute in case one of the other 8 drops out.  Do not be concerned which spot you put your name in\, as we will figure out the actual line-up on the day of the row.\nIf you need to remove your name\, please do so before 5pm of the day before the row.  When you remove your name\, make sure to move one of the substitutes up.  If you *must* remove your name after 5pm the day before\, please contact the substitute you intend to move so that there are no surprises.\nIf we do not have a full crew by 5pm the day before\, I will cancel the row.  As this is an open invitation\, there should be no reason for me to scrounge up last-minute subs.\nIf we end up getting a large number of sign-ups\, we will see about getting a 4x going out at the same time.  So\, don’t let a full list discourage you from signing up.  If I can help get you on the water\, I will work to make that happen.\nReminder: the 8x is a coxed boat.  This means that we each pay the cox $2.50 per row. \n\nSign Up
URL:https://www.hrrc.net/event/8x-open-row-session-1/
LOCATION:HRRC Boathouse\, 1650 Willow Wood Dr\, Norfolk\, VA\, 23509\, United States
CATEGORIES:Open Row
END:VEVENT
BEGIN:VEVENT
DTSTART;TZID=America/Halifax:20160305T080000
DTEND;TZID=America/Halifax:20160305T083000
DTSTAMP:20260424T194040
CREATED:20160227T152632Z
LAST-MODIFIED:20160227T152632Z
UID:1907-1457164800-1457166600@www.hrrc.net
SUMMARY:Club Meeting
DESCRIPTION:Seairth Jacobs will provide some updates to prior announcements.  Additionally\, we will have the new Hudson 8+ on display.  This will also be a good opportunity for members to ask any questions they may have. \nWe respectfully ask that all crews adjust their row times by 30 minutes to accommodate the meeting so that everyone has the opportunity of attending. \nSince we’re sure that “attending every HRRC Club meeting” was your New Year’s resolution (and you don’t want to break your resolution\, do you?!?)\, we’ll see you all there!
URL:https://www.hrrc.net/event/club-meeting/
LOCATION:HRRC Boathouse\, 1650 Willow Wood Dr\, Norfolk\, VA\, 23509\, United States
END:VEVENT
BEGIN:VEVENT
DTSTART;TZID=America/Halifax:20160228T093000
DTEND;TZID=America/Halifax:20160228T110000
DTSTAMP:20260424T194040
CREATED:20160106T034156Z
LAST-MODIFIED:20160214T225548Z
UID:1847-1456651800-1456657200@www.hrrc.net
SUMMARY:8x Open Row Session 2
DESCRIPTION:This row is open to everyone\, regardless of experience.  If you have never sculled before\, this is a good opportunity to learn!  \n\nFirst come\, first served!\n\nPut your name down on the days you want to row.  Start by filling in the spots 1-8.  If those are filled\, you can still put yourself down as a substitute in case one of the other 8 drops out.  Do not be concerned which spot you put your name in\, as we will figure out the actual line-up on the day of the row.\nIf you need to remove your name\, please do so before 5pm of the day before the row.  When you remove your name\, make sure to move one of the substitutes up.  If you *must* remove your name after 5pm the day before\, please contact the substitute you intend to move so that there are no surprises.\nIf we do not have a full crew by 5pm the day before\, I will cancel the row.  As this is an open invitation\, there should be no reason for me to scrounge up last-minute subs.\nIf we end up getting a large number of sign-ups\, we will see about getting a 4x going out at the same time.  So\, don’t let a full list discourage you from signing up.  If I can help get you on the water\, I will work to make that happen.\nReminder: the 8x is a coxed boat.  This means that we each pay the cox $2.50 per row. \n\nSign Up
URL:https://www.hrrc.net/event/8x-open-row-session-2/
LOCATION:HRRC Boathouse\, 1650 Willow Wood Dr\, Norfolk\, VA\, 23509\, United States
CATEGORIES:Open Row
END:VEVENT
BEGIN:VEVENT
DTSTART;TZID=America/Halifax:20160228T080000
DTEND;TZID=America/Halifax:20160228T093000
DTSTAMP:20260424T194040
CREATED:20160106T034017Z
LAST-MODIFIED:20160214T225457Z
UID:1846-1456646400-1456651800@www.hrrc.net
SUMMARY:8x Open Row Session 1
DESCRIPTION:This row is open to everyone\, regardless of experience.  If you have never sculled before\, this is a good opportunity to learn!  \n\nFirst come\, first served!\nPut your name down on the days you want to row.  Start by filling in the spots 1-8.  If those are filled\, you can still put yourself down as a substitute in case one of the other 8 drops out.  Do not be concerned which spot you put your name in\, as we will figure out the actual line-up on the day of the row.\nIf you need to remove your name\, please do so before 5pm of the day before the row.  When you remove your name\, make sure to move one of the substitutes up.  If you *must* remove your name after 5pm the day before\, please contact the substitute you intend to move so that there are no surprises.\nIf we do not have a full crew by 5pm the day before\, I will cancel the row.  As this is an open invitation\, there should be no reason for me to scrounge up last-minute subs.\nIf we end up getting a large number of sign-ups\, we will see about getting a 4x going out at the same time.  So\, don’t let a full list discourage you from signing up.  If I can help get you on the water\, I will work to make that happen.\nReminder: the 8x is a coxed boat.  This means that we each pay the cox $2.50 per row. \n\nSign Up
URL:https://www.hrrc.net/event/8x-open-row/
LOCATION:VA
CATEGORIES:Open Row
END:VEVENT
BEGIN:VEVENT
DTSTART;TZID=America/Halifax:20160209T180000
DTEND;TZID=America/Halifax:20160209T190000
DTSTAMP:20260424T194040
CREATED:20160106T032834Z
LAST-MODIFIED:20160106T032834Z
UID:1844-1455040800-1455044400@www.hrrc.net
SUMMARY:HRRC Board Meeting
DESCRIPTION:
URL:https://www.hrrc.net/event/hrrc-board-meeting/
LOCATION:VA
CATEGORIES:HRRC Board Meeting
END:VEVENT
BEGIN:VEVENT
DTSTART;VALUE=DATE:20151025
DTEND;VALUE=DATE:20151026
DTSTAMP:20260424T194040
CREATED:20150810T014558Z
LAST-MODIFIED:20150810T014558Z
UID:1801-1445731200-1445817599@www.hrrc.net
SUMMARY:Head of the Lafayette
DESCRIPTION:Join us Sunday\, October 25\, 2015 for the Head of the Lafayette! Learn more
URL:https://www.hrrc.net/event/head-of-the-lafayette/
LOCATION:HRRC Boathouse\, 1650 Willow Wood Dr\, Norfolk\, VA\, 23509\, United States
CATEGORIES:HRRC Regatta
END:VEVENT
BEGIN:VEVENT
DTSTART;TZID=America/Halifax:20150829T080000
DTEND;TZID=America/Halifax:20150829T100000
DTSTAMP:20260424T194040
CREATED:20150427T152705Z
LAST-MODIFIED:20150427T152809Z
UID:1640-1440835200-1440842400@www.hrrc.net
SUMMARY:Learn to Row Class
DESCRIPTION:
URL:https://www.hrrc.net/event/learn-to-row-class-36/
LOCATION:HRRC Boathouse\, 1650 Willow Wood Dr\, Norfolk\, VA\, 23509\, United States
CATEGORIES:Learn to Row Session
END:VEVENT
END:VCALENDAR