BEGIN:VCALENDAR
VERSION:2.0
PRODID:-//Hampton Roads Rowing Club - ECPv6.15.13//NONSGML v1.0//EN
CALSCALE:GREGORIAN
METHOD:PUBLISH
X-WR-CALNAME:Hampton Roads Rowing Club
X-ORIGINAL-URL:https://www.hrrc.net
X-WR-CALDESC:Events for Hampton Roads Rowing Club
REFRESH-INTERVAL;VALUE=DURATION:PT1H
X-Robots-Tag:noindex
X-PUBLISHED-TTL:PT1H
BEGIN:VTIMEZONE
TZID:America/Halifax
BEGIN:DAYLIGHT
TZOFFSETFROM:-0400
TZOFFSETTO:-0300
TZNAME:ADT
DTSTART:20140309T060000
END:DAYLIGHT
BEGIN:STANDARD
TZOFFSETFROM:-0300
TZOFFSETTO:-0400
TZNAME:AST
DTSTART:20141102T050000
END:STANDARD
BEGIN:DAYLIGHT
TZOFFSETFROM:-0400
TZOFFSETTO:-0300
TZNAME:ADT
DTSTART:20150308T060000
END:DAYLIGHT
BEGIN:STANDARD
TZOFFSETFROM:-0300
TZOFFSETTO:-0400
TZNAME:AST
DTSTART:20151101T050000
END:STANDARD
BEGIN:DAYLIGHT
TZOFFSETFROM:-0400
TZOFFSETTO:-0300
TZNAME:ADT
DTSTART:20160313T060000
END:DAYLIGHT
BEGIN:STANDARD
TZOFFSETFROM:-0300
TZOFFSETTO:-0400
TZNAME:AST
DTSTART:20161106T050000
END:STANDARD
END:VTIMEZONE
BEGIN:VEVENT
DTSTART;TZID=America/Halifax:20150827T174500
DTEND;TZID=America/Halifax:20150827T200000
DTSTAMP:20260425T003517
CREATED:20150427T152705Z
LAST-MODIFIED:20150427T152705Z
UID:1639-1440697500-1440705600@www.hrrc.net
SUMMARY:Learn to Row Class
DESCRIPTION:
URL:https://www.hrrc.net/event/learn-to-row-class-35/
END:VEVENT
BEGIN:VEVENT
DTSTART;TZID=America/Halifax:20150825T174500
DTEND;TZID=America/Halifax:20150825T200000
DTSTAMP:20260425T003517
CREATED:20150427T152704Z
LAST-MODIFIED:20150427T152704Z
UID:1638-1440524700-1440532800@www.hrrc.net
SUMMARY:Learn to Row Class
DESCRIPTION:
URL:https://www.hrrc.net/event/learn-to-row-class-34/
END:VEVENT
BEGIN:VEVENT
DTSTART;TZID=America/Halifax:20150822T080000
DTEND;TZID=America/Halifax:20150822T100000
DTSTAMP:20260425T003517
CREATED:20150427T152704Z
LAST-MODIFIED:20150427T152704Z
UID:1637-1440230400-1440237600@www.hrrc.net
SUMMARY:Learn to Row Class
DESCRIPTION:
URL:https://www.hrrc.net/event/learn-to-row-class-33/
END:VEVENT
BEGIN:VEVENT
DTSTART;TZID=America/Halifax:20150820T174500
DTEND;TZID=America/Halifax:20150820T200000
DTSTAMP:20260425T003517
CREATED:20150427T152704Z
LAST-MODIFIED:20150427T152704Z
UID:1636-1440092700-1440100800@www.hrrc.net
SUMMARY:Learn to Row Class
DESCRIPTION:
URL:https://www.hrrc.net/event/learn-to-row-class-32/
END:VEVENT
BEGIN:VEVENT
DTSTART;TZID=America/Halifax:20150818T174500
DTEND;TZID=America/Halifax:20150818T200000
DTSTAMP:20260425T003517
CREATED:20150427T152704Z
LAST-MODIFIED:20150427T152704Z
UID:1635-1439919900-1439928000@www.hrrc.net
SUMMARY:Learn to Row Class
DESCRIPTION:
URL:https://www.hrrc.net/event/learn-to-row-class-31/
END:VEVENT
BEGIN:VEVENT
DTSTART;TZID=America/Halifax:20150815T100000
DTEND;TZID=America/Halifax:20150815T113000
DTSTAMP:20260425T003517
CREATED:20150427T152706Z
LAST-MODIFIED:20150427T152706Z
UID:1643-1439632800-1439638200@www.hrrc.net
SUMMARY:Scratch Regatta
DESCRIPTION:
URL:https://www.hrrc.net/event/scratch-regatta-3/
END:VEVENT
BEGIN:VEVENT
DTSTART;TZID=America/Halifax:20150815T080000
DTEND;TZID=America/Halifax:20150815T100000
DTSTAMP:20260425T003517
CREATED:20150427T152703Z
LAST-MODIFIED:20150427T152703Z
UID:1634-1439625600-1439632800@www.hrrc.net
SUMMARY:Learn to Row Class
DESCRIPTION:
URL:https://www.hrrc.net/event/learn-to-row-class-30/
END:VEVENT
BEGIN:VEVENT
DTSTART;TZID=America/Halifax:20150812T174500
DTEND;TZID=America/Halifax:20150812T200000
DTSTAMP:20260425T003517
CREATED:20150427T152703Z
LAST-MODIFIED:20150427T152703Z
UID:1633-1439401500-1439409600@www.hrrc.net
SUMMARY:Learn to Row Class
DESCRIPTION:
URL:https://www.hrrc.net/event/learn-to-row-class-29/
END:VEVENT
BEGIN:VEVENT
DTSTART;TZID=America/Halifax:20150810T174500
DTEND;TZID=America/Halifax:20150810T200000
DTSTAMP:20260425T003517
CREATED:20150427T152703Z
LAST-MODIFIED:20150427T152703Z
UID:1632-1439228700-1439236800@www.hrrc.net
SUMMARY:Learn to Row Class
DESCRIPTION:
URL:https://www.hrrc.net/event/learn-to-row-class-28/
END:VEVENT
BEGIN:VEVENT
DTSTART;TZID=America/Halifax:20150808T080000
DTEND;TZID=America/Halifax:20150808T100000
DTSTAMP:20260425T003517
CREATED:20150427T152703Z
LAST-MODIFIED:20150427T152703Z
UID:1631-1439020800-1439028000@www.hrrc.net
SUMMARY:Learn to Row Class
DESCRIPTION:
URL:https://www.hrrc.net/event/learn-to-row-class-27/
END:VEVENT
BEGIN:VEVENT
DTSTART;TZID=America/Halifax:20150805T174500
DTEND;TZID=America/Halifax:20150805T200000
DTSTAMP:20260425T003517
CREATED:20150427T152703Z
LAST-MODIFIED:20150427T152703Z
UID:1630-1438796700-1438804800@www.hrrc.net
SUMMARY:Learn to Row Class
DESCRIPTION:
URL:https://www.hrrc.net/event/learn-to-row-class-26/
END:VEVENT
BEGIN:VEVENT
DTSTART;TZID=America/Halifax:20150803T174500
DTEND;TZID=America/Halifax:20150803T200000
DTSTAMP:20260425T003517
CREATED:20150427T152702Z
LAST-MODIFIED:20150427T152702Z
UID:1629-1438623900-1438632000@www.hrrc.net
SUMMARY:Learn to Row Class
DESCRIPTION:
URL:https://www.hrrc.net/event/learn-to-row-class-25/
END:VEVENT
BEGIN:VEVENT
DTSTART;TZID=America/Halifax:20150801T080000
DTEND;TZID=America/Halifax:20150801T100000
DTSTAMP:20260425T003517
CREATED:20150427T152702Z
LAST-MODIFIED:20150427T152702Z
UID:1628-1438416000-1438423200@www.hrrc.net
SUMMARY:Learn to Row Class
DESCRIPTION:
URL:https://www.hrrc.net/event/learn-to-row-class-24/
END:VEVENT
BEGIN:VEVENT
DTSTART;TZID=America/Halifax:20150730T174500
DTEND;TZID=America/Halifax:20150730T200000
DTSTAMP:20260425T003517
CREATED:20150427T152702Z
LAST-MODIFIED:20150427T152702Z
UID:1627-1438278300-1438286400@www.hrrc.net
SUMMARY:Learn to Row Class
DESCRIPTION:
URL:https://www.hrrc.net/event/learn-to-row-class-23/
END:VEVENT
BEGIN:VEVENT
DTSTART;TZID=America/Halifax:20150728T174500
DTEND;TZID=America/Halifax:20150728T200000
DTSTAMP:20260425T003517
CREATED:20150427T152701Z
LAST-MODIFIED:20150427T152701Z
UID:1626-1438105500-1438113600@www.hrrc.net
SUMMARY:Learn to Row Class
DESCRIPTION:
URL:https://www.hrrc.net/event/learn-to-row-class-22/
END:VEVENT
BEGIN:VEVENT
DTSTART;TZID=America/Halifax:20150725T080000
DTEND;TZID=America/Halifax:20150725T100000
DTSTAMP:20260425T003517
CREATED:20150427T152701Z
LAST-MODIFIED:20150427T152701Z
UID:1625-1437811200-1437818400@www.hrrc.net
SUMMARY:Learn to Row Class
DESCRIPTION:
URL:https://www.hrrc.net/event/learn-to-row-class-21/
END:VEVENT
BEGIN:VEVENT
DTSTART;TZID=America/Halifax:20150723T174500
DTEND;TZID=America/Halifax:20150723T200000
DTSTAMP:20260425T003517
CREATED:20150427T152701Z
LAST-MODIFIED:20150427T152701Z
UID:1624-1437673500-1437681600@www.hrrc.net
SUMMARY:Learn to Row Class
DESCRIPTION:
URL:https://www.hrrc.net/event/learn-to-row-class-20/
END:VEVENT
BEGIN:VEVENT
DTSTART;TZID=America/Halifax:20150721T174500
DTEND;TZID=America/Halifax:20150721T200000
DTSTAMP:20260425T003517
CREATED:20150427T152701Z
LAST-MODIFIED:20150427T152701Z
UID:1623-1437500700-1437508800@www.hrrc.net
SUMMARY:Learn to Row Class
DESCRIPTION:
URL:https://www.hrrc.net/event/learn-to-row-class-19/
END:VEVENT
BEGIN:VEVENT
DTSTART;TZID=America/Halifax:20150718T100000
DTEND;TZID=America/Halifax:20150718T113000
DTSTAMP:20260425T003517
CREATED:20150427T152705Z
LAST-MODIFIED:20150427T152922Z
UID:1642-1437213600-1437219000@www.hrrc.net
SUMMARY:Scratch Regatta
DESCRIPTION:
URL:https://www.hrrc.net/event/scratch-regatta-2/
LOCATION:HRRC Boathouse\, 1650 Willow Wood Dr\, Norfolk\, VA\, 23509\, United States
CATEGORIES:HRRC Scratch Regatta
END:VEVENT
BEGIN:VEVENT
DTSTART;TZID=America/Halifax:20150718T080000
DTEND;TZID=America/Halifax:20150718T100000
DTSTAMP:20260425T003517
CREATED:20150427T152700Z
LAST-MODIFIED:20150427T152700Z
UID:1622-1437206400-1437213600@www.hrrc.net
SUMMARY:Learn to Row Class
DESCRIPTION:
URL:https://www.hrrc.net/event/learn-to-row-class-18/
END:VEVENT
BEGIN:VEVENT
DTSTART;TZID=America/Halifax:20150715T174500
DTEND;TZID=America/Halifax:20150715T200000
DTSTAMP:20260425T003517
CREATED:20150427T152700Z
LAST-MODIFIED:20150427T152700Z
UID:1621-1436982300-1436990400@www.hrrc.net
SUMMARY:Learn to Row Class
DESCRIPTION:
URL:https://www.hrrc.net/event/learn-to-row-class-17/
END:VEVENT
BEGIN:VEVENT
DTSTART;TZID=America/Halifax:20150713T174500
DTEND;TZID=America/Halifax:20150713T200000
DTSTAMP:20260425T003517
CREATED:20150427T152700Z
LAST-MODIFIED:20150427T152700Z
UID:1620-1436809500-1436817600@www.hrrc.net
SUMMARY:Learn to Row Class
DESCRIPTION:
URL:https://www.hrrc.net/event/learn-to-row-class-16/
END:VEVENT
BEGIN:VEVENT
DTSTART;TZID=America/Halifax:20150711T080000
DTEND;TZID=America/Halifax:20150711T100000
DTSTAMP:20260425T003517
CREATED:20150427T152700Z
LAST-MODIFIED:20150427T152700Z
UID:1619-1436601600-1436608800@www.hrrc.net
SUMMARY:Learn to Row Class
DESCRIPTION:
URL:https://www.hrrc.net/event/learn-to-row-class-15/
END:VEVENT
BEGIN:VEVENT
DTSTART;TZID=America/Halifax:20150708T174500
DTEND;TZID=America/Halifax:20150708T200000
DTSTAMP:20260425T003517
CREATED:20150427T152659Z
LAST-MODIFIED:20150427T152659Z
UID:1618-1436377500-1436385600@www.hrrc.net
SUMMARY:Learn to Row Class
DESCRIPTION:
URL:https://www.hrrc.net/event/learn-to-row-class-14/
END:VEVENT
BEGIN:VEVENT
DTSTART;TZID=America/Halifax:20150706T174500
DTEND;TZID=America/Halifax:20150706T200000
DTSTAMP:20260425T003517
CREATED:20150427T152659Z
LAST-MODIFIED:20150427T152659Z
UID:1617-1436204700-1436212800@www.hrrc.net
SUMMARY:Learn to Row Class
DESCRIPTION:
URL:https://www.hrrc.net/event/learn-to-row-class-13/
END:VEVENT
BEGIN:VEVENT
DTSTART;TZID=America/Halifax:20150701T180000
DTEND;TZID=America/Halifax:20150701T200000
DTSTAMP:20260425T003517
CREATED:20150427T152652Z
LAST-MODIFIED:20150427T152652Z
UID:1585-1435773600-1435780800@www.hrrc.net
SUMMARY:Sweep Open Row
DESCRIPTION:
URL:https://www.hrrc.net/event/sweep-open-row-19/
END:VEVENT
BEGIN:VEVENT
DTSTART;TZID=America/Halifax:20150630T180000
DTEND;TZID=America/Halifax:20150630T200000
DTSTAMP:20260425T003517
CREATED:20150427T152656Z
LAST-MODIFIED:20150427T152656Z
UID:1604-1435687200-1435694400@www.hrrc.net
SUMMARY:Sculling Open Row
DESCRIPTION:
URL:https://www.hrrc.net/event/sculling-open-row-19/
END:VEVENT
BEGIN:VEVENT
DTSTART;TZID=America/Halifax:20150628T100000
DTEND;TZID=America/Halifax:20150628T120000
DTSTAMP:20260425T003517
CREATED:20150427T152652Z
LAST-MODIFIED:20150427T152652Z
UID:1584-1435485600-1435492800@www.hrrc.net
SUMMARY:Sweep Open Row
DESCRIPTION:
URL:https://www.hrrc.net/event/sweep-open-row-18/
END:VEVENT
BEGIN:VEVENT
DTSTART;TZID=America/Halifax:20150627T100000
DTEND;TZID=America/Halifax:20150627T120000
DTSTAMP:20260425T003517
CREATED:20150427T152656Z
LAST-MODIFIED:20150427T152656Z
UID:1603-1435399200-1435406400@www.hrrc.net
SUMMARY:Sculling Open Row
DESCRIPTION:
URL:https://www.hrrc.net/event/sculling-open-row-18/
END:VEVENT
BEGIN:VEVENT
DTSTART;TZID=America/Halifax:20150624T180000
DTEND;TZID=America/Halifax:20150624T200000
DTSTAMP:20260425T003517
CREATED:20150427T152652Z
LAST-MODIFIED:20150427T152652Z
UID:1583-1435168800-1435176000@www.hrrc.net
SUMMARY:Sweep Open Row
DESCRIPTION:
URL:https://www.hrrc.net/event/sweep-open-row-17/
END:VEVENT
END:VCALENDAR